BEGIN:VCALENDAR
VERSION:2.0
PRODID:-// - ECPv6.15.20//NONSGML v1.0//EN
CALSCALE:GREGORIAN
METHOD:PUBLISH
X-ORIGINAL-URL:https://space.epfl.ch
X-WR-CALDESC:Events for 
REFRESH-INTERVAL;VALUE=DURATION:PT1H
X-Robots-Tag:noindex
X-PUBLISHED-TTL:PT1H
BEGIN:VTIMEZONE
TZID:Europe/Zurich
BEGIN:DAYLIGHT
TZOFFSETFROM:+0100
TZOFFSETTO:+0200
TZNAME:CEST
DTSTART:20220327T010000
END:DAYLIGHT
BEGIN:STANDARD
TZOFFSETFROM:+0200
TZOFFSETTO:+0100
TZNAME:CET
DTSTART:20221030T010000
END:STANDARD
BEGIN:DAYLIGHT
TZOFFSETFROM:+0100
TZOFFSETTO:+0200
TZNAME:CEST
DTSTART:20230326T010000
END:DAYLIGHT
BEGIN:STANDARD
TZOFFSETFROM:+0200
TZOFFSETTO:+0100
TZNAME:CET
DTSTART:20231029T010000
END:STANDARD
BEGIN:DAYLIGHT
TZOFFSETFROM:+0100
TZOFFSETTO:+0200
TZNAME:CEST
DTSTART:20240331T010000
END:DAYLIGHT
BEGIN:STANDARD
TZOFFSETFROM:+0200
TZOFFSETTO:+0100
TZNAME:CET
DTSTART:20241027T010000
END:STANDARD
END:VTIMEZONE
BEGIN:VEVENT
DTSTART;TZID=Europe/Zurich:20230405T143000
DTEND;TZID=Europe/Zurich:20230405T153000
DTSTAMP:20260420T022001
CREATED:20230331T100754Z
LAST-MODIFIED:20230331T101157Z
UID:10000122-1680705000-1680708600@space.epfl.ch
SUMMARY:Spaceport SARABHAI - Space Law + Policy Dialogue #4: Orbital Debris Remediation
DESCRIPTION:Tuesday\, 31 March 2026\n13:00-14:15\nEPFL Campus\, room BC 420\nOnline: zoom link \n\nA presentation by the Center for Space and Aviation Switzerland and Liechtenstein (CSA) \nThe Center for Space and Aviation Switzerland and Liechtenstein (CSA) is an alliance born in 2024 from 11 large space and aviation institutions across two countries\, including a Civil Research Flight Facility with aircraft handling and operations. Connected to the Switzerland Innovation Park Zurich in Dübendorf\, it forms an end-to-end ecosystem for space research and technology operations. \n  \nOverview of the Presentation\nOliver Ullrich will introduce the CSA and its institutional foundations. \nMarcel Egli will cover the major physiological changes in the human body under microgravity\, highlight related research conducted at partner institutions\, and introduce the newly established ESA ground-based facility SHARF\, dedicated to space farming research. He will also describe the ESA User Support and Operations Centre BIOTESC and its role in enabling scientific activities aboard the International Space Station. \nCora Thiel will present how human cells can sense and adapt to changes in gravity within seconds\, pointing to a possible "genomic code of gravity." She will also highlight her research on patient-derived organoids in microgravity\, which enabled the first scalable production process for functional human tissues in space — with strong potential for translational and personalized medicine. \nLorenz Herrmann will give an overview of space-related research activities at Empa\, closing with an outlook on future collaboration opportunities based on Empa's core competences. \n  \nAbout the Presenters\nProf. Dr. Marcel Egli serves as Head of the Institute of Medical Engineering at the Lucerne University of Applied Sciences and Arts and of the National Center for Biomedical Research in Space at the University of Zurich. He directs ESA's User Support and Operations Centre BIOTESC and leads the ESA ground-based facility SHARF\, an analogue platform dedicated to research in space farming and bioregenerative life-support systems. His scientific work focuses on the cellular and molecular mechanisms of mechanosensation under microgravity conditions\, employing platforms including parabolic flight campaigns\, sounding rockets\, and the International Space Station. \nDr. Cora Thiel is Vice Director at the University of Zurich's Institute of Aerospace Medicine and Director of International Relations at the CSA. Her expertise spans cell and molecular biology\, neuroscience\, immunology\, and gravitational biology. She serves on several national and international boards\, is an elected Academician of the International Academy of Astronautics\, and a board member of the Swiss SkyLab Foundation. With 18 years of experience in parabolic flight\, suborbital rocket\, and ISS missions\, she has also served as an ESA Astronaut Candidate\, a Mars analogue astronaut\, and the first female parabolic flight instructor. She led the UZH-Airbus project "3D Organoids in Space." \nDr. Lorenz Herrmann has been Head of the Department of Advanced Materials and Surfaces at Empa and a member of Empa's directorate since 2022. He studied physics at the University of Regensburg and the École Normale Supérieure in Paris\, completing a binational PhD in solid state physics in 2010. After joining ABB Corporate Research\, he worked as scientist\, group leader\, and department head on technology development projects. His personal research field is material development and characterization for electrical engineering applications. \nProf. Dr. Dr. Oliver Ullrich is Full Professor of Aerospace Medicine and Director of the Institute of Aerospace Medicine at the University of Zurich\, as well as Chairman of the Center for Space and Aviation Switzerland and Liechtenstein. A physician and biochemist specialized in anatomy\, cell biology\, immunology\, and aerospace medicine\, he also holds a post-graduate diploma in Theology from the Pontifical Lateran University. He is Ambassador of the Greater Zurich Area\, an active supporter of entrepreneurship and public-private partnerships\, and the initiator of the Swiss Parabolic Flight program. He has received numerous national and international research and teaching awards\, including the International Academy of Astronautics Award for the Life Sciences.
URL:https://space.epfl.ch/event/spaceport-sarabhai-space-law-policy-dialogue-4-orbital-debris-remediation/
LOCATION:ZOOM
CATEGORIES:Webinar
ATTACH;FMTTYPE=image/jpeg:https://space.epfl.ch/wp-content/uploads/2023/03/spaceport-sarab.jpg
END:VEVENT
BEGIN:VEVENT
DTSTART;VALUE=DATE:20230421
DTEND;VALUE=DATE:20230422
DTSTAMP:20260420T022002
CREATED:20230419T141246Z
LAST-MODIFIED:20230419T143158Z
UID:10000124-1682035200-1682121599@space.epfl.ch
SUMMARY:Fundamentals of Space LawSpace sector careers for lawyers
DESCRIPTION:Tuesday\, 31 March 2026\n13:00-14:15\nEPFL Campus\, room BC 420\nOnline: zoom link \n\nA presentation by the Center for Space and Aviation Switzerland and Liechtenstein (CSA) \nThe Center for Space and Aviation Switzerland and Liechtenstein (CSA) is an alliance born in 2024 from 11 large space and aviation institutions across two countries\, including a Civil Research Flight Facility with aircraft handling and operations. Connected to the Switzerland Innovation Park Zurich in Dübendorf\, it forms an end-to-end ecosystem for space research and technology operations. \n  \nOverview of the Presentation\nOliver Ullrich will introduce the CSA and its institutional foundations. \nMarcel Egli will cover the major physiological changes in the human body under microgravity\, highlight related research conducted at partner institutions\, and introduce the newly established ESA ground-based facility SHARF\, dedicated to space farming research. He will also describe the ESA User Support and Operations Centre BIOTESC and its role in enabling scientific activities aboard the International Space Station. \nCora Thiel will present how human cells can sense and adapt to changes in gravity within seconds\, pointing to a possible "genomic code of gravity." She will also highlight her research on patient-derived organoids in microgravity\, which enabled the first scalable production process for functional human tissues in space — with strong potential for translational and personalized medicine. \nLorenz Herrmann will give an overview of space-related research activities at Empa\, closing with an outlook on future collaboration opportunities based on Empa's core competences. \n  \nAbout the Presenters\nProf. Dr. Marcel Egli serves as Head of the Institute of Medical Engineering at the Lucerne University of Applied Sciences and Arts and of the National Center for Biomedical Research in Space at the University of Zurich. He directs ESA's User Support and Operations Centre BIOTESC and leads the ESA ground-based facility SHARF\, an analogue platform dedicated to research in space farming and bioregenerative life-support systems. His scientific work focuses on the cellular and molecular mechanisms of mechanosensation under microgravity conditions\, employing platforms including parabolic flight campaigns\, sounding rockets\, and the International Space Station. \nDr. Cora Thiel is Vice Director at the University of Zurich's Institute of Aerospace Medicine and Director of International Relations at the CSA. Her expertise spans cell and molecular biology\, neuroscience\, immunology\, and gravitational biology. She serves on several national and international boards\, is an elected Academician of the International Academy of Astronautics\, and a board member of the Swiss SkyLab Foundation. With 18 years of experience in parabolic flight\, suborbital rocket\, and ISS missions\, she has also served as an ESA Astronaut Candidate\, a Mars analogue astronaut\, and the first female parabolic flight instructor. She led the UZH-Airbus project "3D Organoids in Space." \nDr. Lorenz Herrmann has been Head of the Department of Advanced Materials and Surfaces at Empa and a member of Empa's directorate since 2022. He studied physics at the University of Regensburg and the École Normale Supérieure in Paris\, completing a binational PhD in solid state physics in 2010. After joining ABB Corporate Research\, he worked as scientist\, group leader\, and department head on technology development projects. His personal research field is material development and characterization for electrical engineering applications. \nProf. Dr. Dr. Oliver Ullrich is Full Professor of Aerospace Medicine and Director of the Institute of Aerospace Medicine at the University of Zurich\, as well as Chairman of the Center for Space and Aviation Switzerland and Liechtenstein. A physician and biochemist specialized in anatomy\, cell biology\, immunology\, and aerospace medicine\, he also holds a post-graduate diploma in Theology from the Pontifical Lateran University. He is Ambassador of the Greater Zurich Area\, an active supporter of entrepreneurship and public-private partnerships\, and the initiator of the Swiss Parabolic Flight program. He has received numerous national and international research and teaching awards\, including the International Academy of Astronautics Award for the Life Sciences.
URL:https://space.epfl.ch/event/space-law-unine/
LOCATION:University of Neuchâtel\, Faculty of Law\, AT Auditoire Moyen (301)\, Rue A.-L.Breguet 1\, Neuchâtel\, Neuchâtel\, 2000
CATEGORIES:Conference,Webinar,Workshop
ATTACH;FMTTYPE=image/jpeg:https://space.epfl.ch/wp-content/uploads/2023/04/spacelaw-neuch.jpg
END:VEVENT
BEGIN:VEVENT
DTSTART;VALUE=DATE:20230425
DTEND;VALUE=DATE:20230427
DTSTAMP:20260420T022002
CREATED:20230308T102902Z
LAST-MODIFIED:20230308T103227Z
UID:10000120-1682380800-1682553599@space.epfl.ch
SUMMARY:Space Community Days Switzerland 2023
DESCRIPTION:Tuesday\, 31 March 2026\n13:00-14:15\nEPFL Campus\, room BC 420\nOnline: zoom link \n\nA presentation by the Center for Space and Aviation Switzerland and Liechtenstein (CSA) \nThe Center for Space and Aviation Switzerland and Liechtenstein (CSA) is an alliance born in 2024 from 11 large space and aviation institutions across two countries\, including a Civil Research Flight Facility with aircraft handling and operations. Connected to the Switzerland Innovation Park Zurich in Dübendorf\, it forms an end-to-end ecosystem for space research and technology operations. \n  \nOverview of the Presentation\nOliver Ullrich will introduce the CSA and its institutional foundations. \nMarcel Egli will cover the major physiological changes in the human body under microgravity\, highlight related research conducted at partner institutions\, and introduce the newly established ESA ground-based facility SHARF\, dedicated to space farming research. He will also describe the ESA User Support and Operations Centre BIOTESC and its role in enabling scientific activities aboard the International Space Station. \nCora Thiel will present how human cells can sense and adapt to changes in gravity within seconds\, pointing to a possible "genomic code of gravity." She will also highlight her research on patient-derived organoids in microgravity\, which enabled the first scalable production process for functional human tissues in space — with strong potential for translational and personalized medicine. \nLorenz Herrmann will give an overview of space-related research activities at Empa\, closing with an outlook on future collaboration opportunities based on Empa's core competences. \n  \nAbout the Presenters\nProf. Dr. Marcel Egli serves as Head of the Institute of Medical Engineering at the Lucerne University of Applied Sciences and Arts and of the National Center for Biomedical Research in Space at the University of Zurich. He directs ESA's User Support and Operations Centre BIOTESC and leads the ESA ground-based facility SHARF\, an analogue platform dedicated to research in space farming and bioregenerative life-support systems. His scientific work focuses on the cellular and molecular mechanisms of mechanosensation under microgravity conditions\, employing platforms including parabolic flight campaigns\, sounding rockets\, and the International Space Station. \nDr. Cora Thiel is Vice Director at the University of Zurich's Institute of Aerospace Medicine and Director of International Relations at the CSA. Her expertise spans cell and molecular biology\, neuroscience\, immunology\, and gravitational biology. She serves on several national and international boards\, is an elected Academician of the International Academy of Astronautics\, and a board member of the Swiss SkyLab Foundation. With 18 years of experience in parabolic flight\, suborbital rocket\, and ISS missions\, she has also served as an ESA Astronaut Candidate\, a Mars analogue astronaut\, and the first female parabolic flight instructor. She led the UZH-Airbus project "3D Organoids in Space." \nDr. Lorenz Herrmann has been Head of the Department of Advanced Materials and Surfaces at Empa and a member of Empa's directorate since 2022. He studied physics at the University of Regensburg and the École Normale Supérieure in Paris\, completing a binational PhD in solid state physics in 2010. After joining ABB Corporate Research\, he worked as scientist\, group leader\, and department head on technology development projects. His personal research field is material development and characterization for electrical engineering applications. \nProf. Dr. Dr. Oliver Ullrich is Full Professor of Aerospace Medicine and Director of the Institute of Aerospace Medicine at the University of Zurich\, as well as Chairman of the Center for Space and Aviation Switzerland and Liechtenstein. A physician and biochemist specialized in anatomy\, cell biology\, immunology\, and aerospace medicine\, he also holds a post-graduate diploma in Theology from the Pontifical Lateran University. He is Ambassador of the Greater Zurich Area\, an active supporter of entrepreneurship and public-private partnerships\, and the initiator of the Swiss Parabolic Flight program. He has received numerous national and international research and teaching awards\, including the International Academy of Astronautics Award for the Life Sciences.
URL:https://space.epfl.ch/event/space-community-days-switzerland-2023/
LOCATION:Bernexpo\, Mingerstrasse 6\, Bern\, 3000\, Switzerland
CATEGORIES:Conference,Exhibition
ATTACH;FMTTYPE=image/jpeg:https://space.epfl.ch/wp-content/uploads/2023/03/scd_2023.jpg
END:VEVENT
BEGIN:VEVENT
DTSTART;TZID=Europe/Zurich:20230429T090000
DTEND;TZID=Europe/Zurich:20230430T170000
DTSTAMP:20260420T022002
CREATED:20230309T115601Z
LAST-MODIFIED:20230406T142858Z
UID:10000121-1682758800-1682874000@space.epfl.ch
SUMMARY:EPFL Open Days 2023
DESCRIPTION:Tuesday\, 31 March 2026\n13:00-14:15\nEPFL Campus\, room BC 420\nOnline: zoom link \n\nA presentation by the Center for Space and Aviation Switzerland and Liechtenstein (CSA) \nThe Center for Space and Aviation Switzerland and Liechtenstein (CSA) is an alliance born in 2024 from 11 large space and aviation institutions across two countries\, including a Civil Research Flight Facility with aircraft handling and operations. Connected to the Switzerland Innovation Park Zurich in Dübendorf\, it forms an end-to-end ecosystem for space research and technology operations. \n  \nOverview of the Presentation\nOliver Ullrich will introduce the CSA and its institutional foundations. \nMarcel Egli will cover the major physiological changes in the human body under microgravity\, highlight related research conducted at partner institutions\, and introduce the newly established ESA ground-based facility SHARF\, dedicated to space farming research. He will also describe the ESA User Support and Operations Centre BIOTESC and its role in enabling scientific activities aboard the International Space Station. \nCora Thiel will present how human cells can sense and adapt to changes in gravity within seconds\, pointing to a possible "genomic code of gravity." She will also highlight her research on patient-derived organoids in microgravity\, which enabled the first scalable production process for functional human tissues in space — with strong potential for translational and personalized medicine. \nLorenz Herrmann will give an overview of space-related research activities at Empa\, closing with an outlook on future collaboration opportunities based on Empa's core competences. \n  \nAbout the Presenters\nProf. Dr. Marcel Egli serves as Head of the Institute of Medical Engineering at the Lucerne University of Applied Sciences and Arts and of the National Center for Biomedical Research in Space at the University of Zurich. He directs ESA's User Support and Operations Centre BIOTESC and leads the ESA ground-based facility SHARF\, an analogue platform dedicated to research in space farming and bioregenerative life-support systems. His scientific work focuses on the cellular and molecular mechanisms of mechanosensation under microgravity conditions\, employing platforms including parabolic flight campaigns\, sounding rockets\, and the International Space Station. \nDr. Cora Thiel is Vice Director at the University of Zurich's Institute of Aerospace Medicine and Director of International Relations at the CSA. Her expertise spans cell and molecular biology\, neuroscience\, immunology\, and gravitational biology. She serves on several national and international boards\, is an elected Academician of the International Academy of Astronautics\, and a board member of the Swiss SkyLab Foundation. With 18 years of experience in parabolic flight\, suborbital rocket\, and ISS missions\, she has also served as an ESA Astronaut Candidate\, a Mars analogue astronaut\, and the first female parabolic flight instructor. She led the UZH-Airbus project "3D Organoids in Space." \nDr. Lorenz Herrmann has been Head of the Department of Advanced Materials and Surfaces at Empa and a member of Empa's directorate since 2022. He studied physics at the University of Regensburg and the École Normale Supérieure in Paris\, completing a binational PhD in solid state physics in 2010. After joining ABB Corporate Research\, he worked as scientist\, group leader\, and department head on technology development projects. His personal research field is material development and characterization for electrical engineering applications. \nProf. Dr. Dr. Oliver Ullrich is Full Professor of Aerospace Medicine and Director of the Institute of Aerospace Medicine at the University of Zurich\, as well as Chairman of the Center for Space and Aviation Switzerland and Liechtenstein. A physician and biochemist specialized in anatomy\, cell biology\, immunology\, and aerospace medicine\, he also holds a post-graduate diploma in Theology from the Pontifical Lateran University. He is Ambassador of the Greater Zurich Area\, an active supporter of entrepreneurship and public-private partnerships\, and the initiator of the Swiss Parabolic Flight program. He has received numerous national and international research and teaching awards\, including the International Academy of Astronautics Award for the Life Sciences.
URL:https://space.epfl.ch/event/epfl-open-days-2023/
LOCATION:EPFL Campus\, Route Cantonale\, Lausanne\, Vaud\, 1015\, Switzerland
CATEGORIES:Conference,Exhibition
ATTACH;FMTTYPE=image/jpeg:https://space.epfl.ch/wp-content/uploads/2023/03/1440x810.jpg
END:VEVENT
END:VCALENDAR