BEGIN:VCALENDAR
VERSION:2.0
PRODID:-// - ECPv6.15.20//NONSGML v1.0//EN
CALSCALE:GREGORIAN
METHOD:PUBLISH
X-ORIGINAL-URL:https://space.epfl.ch
X-WR-CALDESC:Events for 
REFRESH-INTERVAL;VALUE=DURATION:PT1H
X-Robots-Tag:noindex
X-PUBLISHED-TTL:PT1H
BEGIN:VTIMEZONE
TZID:Europe/Zurich
BEGIN:DAYLIGHT
TZOFFSETFROM:+0100
TZOFFSETTO:+0200
TZNAME:CEST
DTSTART:20210328T010000
END:DAYLIGHT
BEGIN:STANDARD
TZOFFSETFROM:+0200
TZOFFSETTO:+0100
TZNAME:CET
DTSTART:20211031T010000
END:STANDARD
BEGIN:DAYLIGHT
TZOFFSETFROM:+0100
TZOFFSETTO:+0200
TZNAME:CEST
DTSTART:20220327T010000
END:DAYLIGHT
BEGIN:STANDARD
TZOFFSETFROM:+0200
TZOFFSETTO:+0100
TZNAME:CET
DTSTART:20221030T010000
END:STANDARD
BEGIN:DAYLIGHT
TZOFFSETFROM:+0100
TZOFFSETTO:+0200
TZNAME:CEST
DTSTART:20230326T010000
END:DAYLIGHT
BEGIN:STANDARD
TZOFFSETFROM:+0200
TZOFFSETTO:+0100
TZNAME:CET
DTSTART:20231029T010000
END:STANDARD
END:VTIMEZONE
BEGIN:VEVENT
DTSTART;TZID=Europe/Zurich:20220318T200000
DTEND;TZID=Europe/Zurich:20220319T220000
DTSTAMP:20260425T021514
CREATED:20220214T094705Z
LAST-MODIFIED:20220316T223005Z
UID:10000080-1647633600-1647727200@space.epfl.ch
SUMMARY:Legends of Space
DESCRIPTION:Take an incredible journey through the past\, present\, and future of human spaceflight and space exploration\, as we tell the continuing story of humankind’s greatest adventure. \nFrom Project Gemini to the Apollo program\, to present day NASA and global space agencies commitment to landing humans including the first woman\, and the next man on the Moon by the mid 2020’s through the ARTEMIS program\, establishing sustainable missions by the end of the decade\, and to the next giant leap for all humanity – sending humans to Mars. \nLegendary figures from the Gemini and Apollo Missions\, with prominent figures from Space Shuttle and International Space Station Missions\, to current USA and European Space Agency Space Mission Leaders\, and global commercial Space Partners. \nFeaturing live on Stage \n\nGemini VIII and Apollo 9 Astronaut\, Apollo 15 Commander and Moonwalker Dave Scott\nApollo 16 Astronaut and Moonwalker Charlie Duke\nApollo Mission Control Flight Director of all the Apollo Missions Gerry Griffin\n12th NASA Administrator and Space Shuttle Commander\, The Honorable Charles F. Bolden Jr.\nformer Director of The Johnson Space Center\, Space Shuttle Astronaut and the first Hispanic woman in space Ellen Ochoa\nNASA Astronaut and the first American woman to walk in space Kathy Sullivan\nSwiss ESA Astronaut Claudie Nicollier\nFrench ESA Astronaut Jean-Francois Clervoy\nESA Senior Advisor for Science and Exploration Professor Mark McCaughrean\, with special guests featuring; current United States of America Space Mission Leaders\n\nFeaturing singers-songwriters Mark Armstrong and Kali Armstrong\, the son and granddaughter of legendary Apollo 11 Astronaut and Commander Neil Armstrong\, with an emotional special music performance tribute to the heroes of human spaceflight and exploration. \nHosted by SwissApollo\, Lukas Viglietti  \n			\n							INFO & TICKETS
URL:https://space.epfl.ch/event/legends-of-space/
LOCATION:Swisstech Convention Center\, Quartier Nord EPFL\, Route Louis-Favre 2\, Ecublens\, Vaud\, 1024\, Switzerland
ATTACH;FMTTYPE=image/jpeg:https://space.epfl.ch/wp-content/uploads/2022/02/legends-of-space.jpg
END:VEVENT
END:VCALENDAR